BEGIN:VCALENDAR
VERSION:2.0
PRODID:-//Albrecherhof - ECPv6.15.15//NONSGML v1.0//EN
CALSCALE:GREGORIAN
METHOD:PUBLISH
X-ORIGINAL-URL:https://albrecherhof.at
X-WR-CALDESC:Veranstaltungen für Albrecherhof
REFRESH-INTERVAL;VALUE=DURATION:PT1H
X-Robots-Tag:noindex
X-PUBLISHED-TTL:PT1H
BEGIN:VTIMEZONE
TZID:UTC
BEGIN:STANDARD
TZOFFSETFROM:+0000
TZOFFSETTO:+0000
TZNAME:UTC
DTSTART:20250101T000000
END:STANDARD
END:VTIMEZONE
BEGIN:VEVENT
DTSTART;TZID=UTC:20260806T170000
DTEND;TZID=UTC:20260806T170000
DTSTAMP:20260421T113810
CREATED:20260206T203003Z
LAST-MODIFIED:20260206T203003Z
UID:1041-1786035600-1786035600@albrecherhof.at
SUMMARY:Schratln - jeden Donnerstag ab 17:00 Uhr in Heimschuh
DESCRIPTION:
URL:https://albrecherhof.at/veranstaltung/schratln-jeden-donnerstag-ab-1700-uhr-in-heimschuh-13/
END:VEVENT
BEGIN:VEVENT
DTSTART;TZID=UTC:20260813T170000
DTEND;TZID=UTC:20260813T170000
DTSTAMP:20260421T113810
CREATED:20260206T203046Z
LAST-MODIFIED:20260206T203046Z
UID:1043-1786640400-1786640400@albrecherhof.at
SUMMARY:Schratln - jeden Donnerstag ab 17:00 Uhr in Heimschuh
DESCRIPTION:
URL:https://albrecherhof.at/veranstaltung/schratln-jeden-donnerstag-ab-1700-uhr-in-heimschuh-14/
END:VEVENT
BEGIN:VEVENT
DTSTART;TZID=UTC:20260820T170000
DTEND;TZID=UTC:20260820T170000
DTSTAMP:20260421T113810
CREATED:20260206T203114Z
LAST-MODIFIED:20260206T203114Z
UID:1045-1787245200-1787245200@albrecherhof.at
SUMMARY:Schratln - jeden Donnerstag ab 17:00 Uhr in Heimschuh
DESCRIPTION:
URL:https://albrecherhof.at/veranstaltung/schratln-jeden-donnerstag-ab-1700-uhr-in-heimschuh-15/
END:VEVENT
BEGIN:VEVENT
DTSTART;TZID=UTC:20260827T080000
DTEND;TZID=UTC:20260827T170000
DTSTAMP:20260421T113810
CREATED:20260206T203136Z
LAST-MODIFIED:20260206T203136Z
UID:1047-1787817600-1787850000@albrecherhof.at
SUMMARY:Schratln - jeden Donnerstag ab 17:00 Uhr in Heimschuh
DESCRIPTION:
URL:https://albrecherhof.at/veranstaltung/schratln-jeden-donnerstag-ab-1700-uhr-in-heimschuh-16/
END:VEVENT
BEGIN:VEVENT
DTSTART;TZID=UTC:20260827T170000
DTEND;TZID=UTC:20260827T170000
DTSTAMP:20260421T113810
CREATED:20260206T203206Z
LAST-MODIFIED:20260206T203206Z
UID:1049-1787850000-1787850000@albrecherhof.at
SUMMARY:Schratln - jeden Donnerstag ab 17:00 Uhr in Heimschuh
DESCRIPTION:
URL:https://albrecherhof.at/veranstaltung/schratln-jeden-donnerstag-ab-1700-uhr-in-heimschuh-17/
END:VEVENT
END:VCALENDAR